BEGIN:VCALENDAR
VERSION:2.0
PRODID:Events Booking
BEGIN:VEVENT
UID:69ed14bbf0043
SUMMARY:Cookery Classics: Online with Charlie: Fairy Cakes: All Ages
DESCRIPTION:
DTSTART:20200804T093000Z
DTEND:20200804T110000Z
DTSTAMP:20260425T202339Z
ORGANIZER;CN=ILEAP Charity:MAILTO:sparkle@ileap.co.uk
END:VEVENT
END:VCALENDAR