BEGIN:VCALENDAR
VERSION:2.0
PRODID:Events Booking
BEGIN:VEVENT
UID:69ed3a995ba7c
SUMMARY:Cookery Classics: Online with Charlie: Healthier Flapjacks: All Age
 s
DESCRIPTION:
DTSTART:20200820T093000Z
DTEND:20200820T110000Z
DTSTAMP:20260425T230513Z
ORGANIZER;CN=ILEAP Charity:MAILTO:sparkle@ileap.co.uk
END:VEVENT
END:VCALENDAR