BEGIN:VCALENDAR
VERSION:2.0
PRODID:Events Booking
BEGIN:VEVENT
UID:69ed1472ed7a4
SUMMARY:Crafty Packs Online with Charlie: Dancing Crab Wooden Puppet: All A
 ges
DESCRIPTION:
DTSTART:20200729T093000Z
DTEND:20200729T110000Z
DTSTAMP:20260425T202226Z
ORGANIZER;CN=ILEAP Charity:MAILTO:sparkle@ileap.co.uk
END:VEVENT
END:VCALENDAR