BEGIN:VCALENDAR
VERSION:2.0
PRODID:Events Booking
BEGIN:VEVENT
UID:69ed3bc53217b
SUMMARY:Crafty Packs Online with Charlie: In the Garden Wooden Windchimes: 
 All Ages
DESCRIPTION:
DTSTART:20200826T093000Z
DTEND:20200826T110000Z
DTSTAMP:20260425T231013Z
ORGANIZER;CN=ILEAP Charity:MAILTO:sparkle@ileap.co.uk
END:VEVENT
END:VCALENDAR