BEGIN:VCALENDAR
VERSION:2.0
PRODID:Events Booking
BEGIN:VEVENT
UID:69ed270adde6f
SUMMARY:Crafty Packs Online with Charlie: Parrot Wooden Flying Puppet: All 
 Ages
DESCRIPTION:
DTSTART:20200812T093000Z
DTEND:20200812T110000Z
DTSTAMP:20260425T214146Z
ORGANIZER;CN=ILEAP Charity:MAILTO:sparkle@ileap.co.uk
END:VEVENT
END:VCALENDAR