BEGIN:VCALENDAR
VERSION:2.0
PRODID:Events Booking
BEGIN:VEVENT
UID:69ed14daa432f
SUMMARY:Crafty Packs Online with Charlie: Seaside Wooden Dreamcatcher: All 
 Ages
DESCRIPTION:
DTSTART:20200805T093000Z
DTEND:20200805T110000Z
DTSTAMP:20260425T202410Z
ORGANIZER;CN=ILEAP Charity:MAILTO:sparkle@ileap.co.uk
END:VEVENT
END:VCALENDAR