BEGIN:VCALENDAR
VERSION:2.0
PRODID:Events Booking
BEGIN:VEVENT
UID:69ed3c18cfedc
SUMMARY:Crafty Packs Online with Charlie: Butterfly Colour-in Masks and Fis
 h Wand: All Ages
DESCRIPTION:
DTSTART:20200819T093000Z
DTEND:20200819T103000Z
DTSTAMP:20260425T231136Z
ORGANIZER;CN=ILEAP Charity:MAILTO:sparkle@ileap.co.uk
END:VEVENT
END:VCALENDAR