BEGIN:VCALENDAR
VERSION:2.0
PRODID:Events Booking
BEGIN:VEVENT
UID:69e72f0e59bd1
SUMMARY:Creative Cookery<br>8+ yrs
DESCRIPTION:“Simple &amp\; Fun Tasty Recipes that will build confidence i
 n the kitchen”.
 
 Includes ingredients |&nbsp\;Bring a packed Lunch a
 nd a drink |&nbsp\;Bring and Apron and a container.
 
LOCATION:Church St\, Stratford-upon-Avon CV37 6BE
DTSTART:20180721T093000Z
DTEND:20180721T120000Z
DTSTAMP:20260421T090222Z
ORGANIZER;CN=ILEAP Charity:MAILTO:sparkle@ileap.co.uk
GEO:52.190487;-1.706817
X-APPLE-STRUCTURED-LOCATION;VALUE=URI;X-ADDRESS=Church St\, Stratford-upon-
 Avon CV37 6BE;X-APPLE-RADIUS=72;X-TITLE=King Edward School:52.190487;-1.70
 6817
END:VEVENT
END:VCALENDAR