BEGIN:VCALENDAR
VERSION:2.0
PRODID:Events Booking
BEGIN:VEVENT
UID:69e934ff35c36
SUMMARY:Easter Fun & Frolics at Hatton Country World\, 12 years and over
DESCRIPTION:
LOCATION:Dark Lane\, Hatton\,  CV35 8XA
DTSTART:20190414T100000Z
DTEND:20190414T140000Z
DTSTAMP:20260422T215215Z
ORGANIZER;CN=ILEAP Charity:MAILTO:sparkle@ileap.co.uk
GEO:52.293584;-1.655767
X-APPLE-STRUCTURED-LOCATION;VALUE=URI;X-ADDRESS=Dark Lane\, Hatton\,  CV35 
 8XA;X-APPLE-RADIUS=72;X-TITLE=Hatton Adventure World:52.293584;-1.655767
END:VEVENT
END:VCALENDAR