BEGIN:VCALENDAR
VERSION:2.0
PRODID:Events Booking
BEGIN:VEVENT
UID:69e9118ee0b22
SUMMARY:February Fun & Frolics at Hatton Country World<br>8 years and over
DESCRIPTION:Includes entrance and attractions
LOCATION:Dark Lane\, Hatton\,  CV35 8XA
DTSTART:20190218T110000Z
DTEND:20190218T150000Z
DTSTAMP:20260422T192102Z
ORGANIZER;CN=ILEAP Charity:MAILTO:sparkle@ileap.co.uk
GEO:52.293584;-1.655767
X-APPLE-STRUCTURED-LOCATION;VALUE=URI;X-ADDRESS=Dark Lane\, Hatton\,  CV35 
 8XA;X-APPLE-RADIUS=72;X-TITLE=Hatton Adventure World:52.293584;-1.655767
END:VEVENT
END:VCALENDAR