BEGIN:VCALENDAR
VERSION:2.0
PRODID:Events Booking
BEGIN:VEVENT
UID:69ecdee365824
SUMMARY:Online Zoom Activity: Get Active Monday\, suitable for All Ages
DESCRIPTION:
DTSTART:20200511T140000Z
DTEND:20200511T150000Z
DTSTAMP:20260425T163355Z
ORGANIZER;CN=ILEAP Charity:MAILTO:sparkle@ileap.co.uk
END:VEVENT
END:VCALENDAR