BEGIN:VCALENDAR
VERSION:2.0
PRODID:Events Booking
BEGIN:VEVENT
UID:69ecc6a7677d5
SUMMARY:Online Zoom Activity: Get Active Monday\, suitable for All Ages
DESCRIPTION:
DTSTART:20200504T140000Z
DTEND:20200504T150000Z
DTSTAMP:20260425T145031Z
ORGANIZER;CN=ILEAP Charity:MAILTO:sparkle@ileap.co.uk
END:VEVENT
END:VCALENDAR