BEGIN:VCALENDAR
VERSION:2.0
PRODID:Events Booking
BEGIN:VEVENT
UID:69e984b5c20d2
SUMMARY:Go Ape @ Coombe Abbey Country Park\, 12 years and over 
DESCRIPTION:
LOCATION:Coombe Country Park Brinklow Road Binley Coventry CV3 2AB
DTSTART:20190812T100000Z
DTEND:20190812T140000Z
DTSTAMP:20260423T033221Z
ORGANIZER;CN=ILEAP Charity:MAILTO:sparkle@ileap.co.uk
GEO:52.411624;-1.407982
X-APPLE-STRUCTURED-LOCATION;VALUE=URI;X-ADDRESS=Coombe Country Park Brinklo
 w Road Binley Coventry CV3 2AB;X-APPLE-RADIUS=72;X-TITLE=Coombe Abbey Coun
 try Park:52.411624;-1.407982
END:VEVENT
END:VCALENDAR