BEGIN:VCALENDAR
VERSION:2.0
PRODID:Events Booking
BEGIN:VEVENT
UID:69e992bc8032d
SUMMARY:Greenway Country Walk and Nature Woodland Picnic  
DESCRIPTION:
LOCATION:Milcote Rd car park\, Milcote\, England CV37 8JW
DTSTART:20190820T100000Z
DTEND:20190820T150000Z
DTSTAMP:20260423T043212Z
ORGANIZER;CN=ILEAP Charity:MAILTO:sparkle@ileap.co.uk
GEO:52.161983;-1.751883
X-APPLE-STRUCTURED-LOCATION;VALUE=URI;X-ADDRESS=Milcote Rd car park\, Milco
 te\, England CV37 8JW;X-APPLE-RADIUS=72;X-TITLE=The Greenway Milcote Road 
 Car Park (Milcote):52.161983;-1.751883
END:VEVENT
END:VCALENDAR