BEGIN:VCALENDAR
VERSION:2.0
PRODID:Events Booking
BEGIN:VEVENT
UID:69e9d892b37fc
SUMMARY:Greenway Country Walk and Picnic 
DESCRIPTION:A Leisurely stroll with Friends through the Warwickshire Countr
 yside.
 Bring a packed lunch and some £ for a drink / ice cream
LOCATION:Milcote Rd car park\, Milcote\, England CV37 8JW
DTSTART:20190723T103000Z
DTEND:20190723T140000Z
DTSTAMP:20260423T093010Z
ORGANIZER;CN=ILEAP Charity:MAILTO:sparkle@ileap.co.uk
GEO:52.161983;-1.751883
X-APPLE-STRUCTURED-LOCATION;VALUE=URI;X-ADDRESS=Milcote Rd car park\, Milco
 te\, England CV37 8JW;X-APPLE-RADIUS=72;X-TITLE=The Greenway Milcote Road 
 Car Park (Milcote):52.161983;-1.751883
END:VEVENT
END:VCALENDAR