BEGIN:VCALENDAR
VERSION:2.0
PRODID:Events Booking
BEGIN:VEVENT
UID:69e9c33340eb4
SUMMARY:ILEAP Halloween Fancy Dress Disco Club Night 
DESCRIPTION:ILEAP&nbsp\;Club&nbsp\;Nights!For&nbsp\;ILEAP&nbsp\;Members\,&n
 bsp\;Old&nbsp\;and&nbsp\;New!Join&nbsp\;ILEAP&nbsp\;and&nbsp\;join&nbsp\;t
 he&nbsp\;Fun!
LOCATION:Southern Lane\, Stratford-upon-Avon\, CV37 6BH
DTSTART:20191030T200000Z
DTEND:20191030T220000Z
DTSTAMP:20260423T075859Z
ORGANIZER;CN=ILEAP Charity:MAILTO:sparkle@ileap.co.uk
GEO:52.189135;-1.70661
X-APPLE-STRUCTURED-LOCATION;VALUE=URI;X-ADDRESS=Southern Lane\, Stratford-u
 pon-Avon\, CV37 6BH;X-APPLE-RADIUS=72;X-TITLE=The Other Place:52.189135;-1
 .70661
END:VEVENT
END:VCALENDAR