BEGIN:VCALENDAR
VERSION:2.0
PRODID:Events Booking
BEGIN:VEVENT
UID:69e9c2bceb5de
SUMMARY:Hatton Country World\, Enchanted Christmas for under 12's
DESCRIPTION:
LOCATION:Dark Lane\, Hatton\,  CV35 8XA
DTSTART:20191028T103000Z
DTEND:20191028T143000Z
DTSTAMP:20210923T140453Z
ORGANIZER;CN=ILEAP Charity:MAILTO:sparkle@ileap.co.uk
GEO:52.293584;-1.655767
X-APPLE-STRUCTURED-LOCATION;VALUE=URI;X-ADDRESS=Dark Lane\, Hatton\,  CV35 
 8XA;X-APPLE-RADIUS=72;X-TITLE=Hatton Adventure World:52.293584;-1.655767
END:VEVENT
END:VCALENDAR