BEGIN:VCALENDAR
VERSION:2.0
PRODID:Events Booking
BEGIN:VEVENT
UID:69e9db4e18c1e
SUMMARY:Hatton Country World\, 12 years & over\, Enchanted Christmas 
DESCRIPTION:A fun filled Christmas Special at Hatton Country World.
 Bring
  a packed lunch and get fully immersed in all of the fantastic &nbsp\;fest
 ive activities.
 Dress for the weather and enjoy all things Christmas&nbs
 p\;
 We'll hopefully be meeting the Big Man for those last minute Christm
 as Wishes&nbsp\;
LOCATION:Dark Lane\, Hatton\,  CV35 8XA
DTSTART:20251222T110000Z
DTEND:20251222T150000Z
DTSTAMP:20210923T140453Z
ORGANIZER;CN=ILEAP Charity:MAILTO:sparkle@ileap.co.uk
GEO:52.293584;-1.655767
X-APPLE-STRUCTURED-LOCATION;VALUE=URI;X-ADDRESS=Dark Lane\, Hatton\,  CV35 
 8XA;X-APPLE-RADIUS=72;X-TITLE=Hatton Adventure World:52.293584;-1.655767
END:VEVENT
END:VCALENDAR