BEGIN:VCALENDAR
VERSION:2.0
PRODID:Events Booking
BEGIN:VEVENT
UID:69e9c099cf2e1
SUMMARY:Hatton Country World\, 12 years and over\, Halloween Fun
DESCRIPTION:A fun filled day at Hatton Country World.
 Bring a packed lunc
 h and get fully immersed in all of the fantatsic activities.
 Dress for t
 he weather and enjoy the Halloween Festivities
LOCATION:Dark Lane\, Hatton\,  CV35 8XA
DTSTART:20191028T110000Z
DTEND:20191028T160000Z
DTSTAMP:20260423T074753Z
ORGANIZER;CN=ILEAP Charity:MAILTO:sparkle@ileap.co.uk
GEO:52.293584;-1.655767
X-APPLE-STRUCTURED-LOCATION;VALUE=URI;X-ADDRESS=Dark Lane\, Hatton\,  CV35 
 8XA;X-APPLE-RADIUS=72;X-TITLE=Hatton Adventure World:52.293584;-1.655767
END:VEVENT
END:VCALENDAR