BEGIN:VCALENDAR
VERSION:2.0
PRODID:Events Booking
BEGIN:VEVENT
UID:69e947ab2e385
SUMMARY:Horrible History at Warwick Castle\, 12 years and over
DESCRIPTION:
LOCATION:Warwick\, CV34 4QU
DTSTART:20190512T093000Z
DTEND:20190512T150000Z
DTSTAMP:20260422T231155Z
ORGANIZER;CN=ILEAP Charity:MAILTO:sparkle@ileap.co.uk
GEO:52.279915;-1.585475
X-APPLE-STRUCTURED-LOCATION;VALUE=URI;X-ADDRESS=Warwick\, CV34 4QU;X-APPLE-
 RADIUS=72;X-TITLE=Warwick Castle:52.279915;-1.585475
END:VEVENT
END:VCALENDAR