BEGIN:VCALENDAR
VERSION:2.0
PRODID:Events Booking
BEGIN:VEVENT
UID:69ecdee45228c
SUMMARY:ILEAP 2024 AGM
DESCRIPTION:In person from 6.30pm:
 Venture House\, Avenue Farm Industrial
  Estate\, Birmingham Road\, Stratford -upon Avon Warwickshire\, CV37 0HR&n
 bsp\;
 Online from 7pm:
 Invite Link:
 Topic: ILEAP 2024 AGM
 Time: Se
 p 1\, 2025 19:00 London
 Join Zoom Meeting
 https://us02web.zoom.us/j/87
 499953965?pwd=Yx5audcVa90nEZ8AOZLtX09tFg9QsP.1
 Meeting ID: 874 9995 3965
 
 Passcode: 894098
DTSTART:20250901T173000Z
DTEND:20250901T190000Z
DTSTAMP:20241223T115037Z
ORGANIZER;CN=ILEAP Charity:MAILTO:sparkle@ileap.co.uk
END:VEVENT
END:VCALENDAR