BEGIN:VCALENDAR
VERSION:2.0
PRODID:Events Booking
BEGIN:VEVENT
UID:69e9df846a973
SUMMARY:ILEAP Aspire Drama Club 2025:Tuesdays at The Sydni Centre: Spring T
 erm: 8 -18 years: 18.30 -19.45pm
DESCRIPTION:Join the Tessa\, Jordan and Louise for this fantastic Drama ses
 sion for those with Aspergers / Autism\, at this brilliant venue for ILEAP
  Members aged 8 - 18 years
 It will be the highlight of your week and wil
 l bring you on in ILEAPS and Bounds!. &nbsp\;
 You are booking for the Au
 tumn term 2025
LOCATION:Cottage Square\, Leamington Spa CV31 1PT\, UK
DTSTART:20251216T183000Z
DTEND:20251216T194500Z
DTSTAMP:20211028T080113Z
ORGANIZER;CN=ILEAP Charity:MAILTO:sparkle@ileap.co.uk
GEO:52.281336;-1.514425
X-APPLE-STRUCTURED-LOCATION;VALUE=URI;X-ADDRESS=Cottage Square\, Leamington
  Spa CV31 1PT\, UK;X-APPLE-RADIUS=72;X-TITLE=The Sydni Centre:52.281336;-1
 .514425
END:VEVENT
END:VCALENDAR