BEGIN:VCALENDAR
VERSION:2.0
PRODID:Events Booking
BEGIN:VEVENT
UID:69ed63a57a3e0
SUMMARY:ILEAP Drama Club:Tuesdays at The Sydni Centre (Formerly Wren Hall):
  Spring Term: 16 yrs and over: 18.00 - 20:00
DESCRIPTION:Join the Ellen and Rose for this fantastic Drama session at thi
 s brilliant venue for ILEAP Members aged 16 years and over
 It will be th
 e highlight of your week and will bring you on in ILEAPS and Bounds!. &nbs
 p\;
 You are booking for the Spring term 2025
LOCATION:Cottage Square\, Leamington Spa CV31 1PT\, UK
DTSTART:20250408T171500Z
DTEND:20250408T190000Z
DTSTAMP:20211028T080113Z
ORGANIZER;CN=ILEAP Charity:MAILTO:sparkle@ileap.co.uk
GEO:52.281336;-1.514425
X-APPLE-STRUCTURED-LOCATION;VALUE=URI;X-ADDRESS=Cottage Square\, Leamington
  Spa CV31 1PT\, UK;X-APPLE-RADIUS=72;X-TITLE=The Sydni Centre:52.281336;-1
 .514425
END:VEVENT
END:VCALENDAR