BEGIN:VCALENDAR
VERSION:2.0
PRODID:Events Booking
BEGIN:VEVENT
UID:69e9da1c33ea9
SUMMARY:ILEAP BIG Chill Movie Saturday Club: Autumn Term 2025: 16 years and
  over  
DESCRIPTION:You are booking for the Autumn Term 2025
 The ILEAP Big Chill 
 Movie Club is a place where you can Relax &amp\; Chill and just be your wo
 nderful self and do your own thing\, whilst watching a cool movie
 Relax 
 and Chill and meet your mates\, not a bad way to spend a Saturday afternoo
 n.
 You are booking for all dates this term
 &nbsp\;
LOCATION:Abbey End Car Park\, Abbey End\, Kenilworth CV8 1JP
DTSTART:20251220T150000Z
DTEND:20251220T163000Z
DTSTAMP:20211028T124840Z
ORGANIZER;CN=ILEAP Charity:MAILTO:sparkle@ileap.co.uk
GEO:52.344216;-1.578651
X-APPLE-STRUCTURED-LOCATION;VALUE=URI;X-ADDRESS=Abbey End Car Park\, Abbey 
 End\, Kenilworth CV8 1JP;X-APPLE-RADIUS=72;X-TITLE=The Kenilworth Centre:5
 2.344216;-1.578651
END:VEVENT
END:VCALENDAR