BEGIN:VCALENDAR
VERSION:2.0
PRODID:Events Booking
BEGIN:VEVENT
UID:69e9d92681c14
SUMMARY:ILEAP BIG Chill New Year Saturday Club: 16 years and over  
DESCRIPTION:This New Year Special Big Chill\, is sure to get you in the par
 ty mood. Dig out your Christmas Jumper and jump into the New Year with you
 r ILEAP pals.
 The ILEAP Big Chill is a place where you can Relax &amp\; 
 Chill and just be your wonderful self and do your own thing.
 Our fully a
 ccessible venue has a pool table\, table footy\, outdoor sports court\, ga
 rden\, art room\, dvd player\, comfy chairs\, sensory room a snack bar and
  tuck shop.
 Relax and Chill and meet your mates\, not a bad way to spend
  a Saturday afternoon.
 &nbsp\;
 &nbsp\;
LOCATION:Abbey End Car Park\, Abbey End\, Kenilworth CV8 1JP
DTSTART:20251227T120000Z
DTEND:20251227T150000Z
DTSTAMP:20211028T124840Z
ORGANIZER;CN=ILEAP Charity:MAILTO:sparkle@ileap.co.uk
GEO:52.344216;-1.578651
X-APPLE-STRUCTURED-LOCATION;VALUE=URI;X-ADDRESS=Abbey End Car Park\, Abbey 
 End\, Kenilworth CV8 1JP;X-APPLE-RADIUS=72;X-TITLE=The Kenilworth Centre:5
 2.344216;-1.578651
END:VEVENT
END:VCALENDAR