BEGIN:VCALENDAR
VERSION:2.0
PRODID:Events Booking
BEGIN:VEVENT
UID:69e8da4498930
SUMMARY:ILEAP BIG Chill  Saturday Club<br>8+ yrs
DESCRIPTION:“Relax &amp\; Chill&nbsp\;Just be yourself and do your own th
 ing”
 DVD /POOL / COMPUTERS / TABLE FOOTBALL / SPORTS / ART / MUSIC
DTSTART:20181124T120000Z
DTEND:20181124T150000Z
DTSTAMP:20260422T152508Z
ORGANIZER;CN=ILEAP Charity:MAILTO:sparkle@ileap.co.uk
END:VEVENT
END:VCALENDAR