BEGIN:VCALENDAR
VERSION:2.0
PRODID:Events Booking
BEGIN:VEVENT
UID:69e94a0e6b044
SUMMARY:ILEAP BIG Chill  Saturday Club<br>Summer Term<br>DVD /POOL / COMPUT
 ERS / TABLE FOOTBALL / SPORTS / ART / MUSIC<br>8 years and over
DESCRIPTION:
LOCATION:Abbey End Car Park\, Abbey End\, Kenilworth CV8 1JP
DTSTART:20190518T110000Z
DTEND:20190518T140000Z
DTSTAMP:20260422T232206Z
ORGANIZER;CN=ILEAP Charity:MAILTO:sparkle@ileap.co.uk
GEO:52.344216;-1.578651
X-APPLE-STRUCTURED-LOCATION;VALUE=URI;X-ADDRESS=Abbey End Car Park\, Abbey 
 End\, Kenilworth CV8 1JP;X-APPLE-RADIUS=72;X-TITLE=The Kenilworth Centre:5
 2.344216;-1.578651
END:VEVENT
END:VCALENDAR