BEGIN:VCALENDAR
VERSION:2.0
PRODID:Events Booking
BEGIN:VEVENT
UID:69e8ed81500f4
SUMMARY:ILEAP Christmas Panto:<br>Aladdin<br>All Welcome
DESCRIPTION:
LOCATION:Barrow Road\, Kenilworth\, CV8 1EG
DTSTART:20190105T150000Z
DTEND:20190105T170000Z
DTSTAMP:20260422T164713Z
ORGANIZER;CN=ILEAP Charity:MAILTO:sparkle@ileap.co.uk
GEO:52.340848;-1.582267
X-APPLE-STRUCTURED-LOCATION;VALUE=URI;X-ADDRESS=Barrow Road\, Kenilworth\, 
 CV8 1EG;X-APPLE-RADIUS=72;X-TITLE=Talisman Theatre:52.340848;-1.582267
END:VEVENT
END:VCALENDAR