BEGIN:VCALENDAR
VERSION:2.0
PRODID:Events Booking
BEGIN:VEVENT
UID:69e8ed835284b
SUMMARY:ILEAP Christmas Panto:<br>Aladdin<br>All Welcome
DESCRIPTION:
LOCATION:Cox's Yard\,  Stratford-upon-Avon\,CV37 6YY
DTSTART:20181227T181500Z
DTEND:20181227T203000Z
DTSTAMP:20260422T164715Z
ORGANIZER;CN=ILEAP Charity:MAILTO:sparkle@ileap.co.uk
GEO:52.192063;-1.70174
X-APPLE-STRUCTURED-LOCATION;VALUE=URI;X-ADDRESS=Cox's Yard\,  Stratford-upo
 n-Avon\,CV37 6YY;X-APPLE-RADIUS=72;X-TITLE=The Attic Theatre:52.192063;-1.
 70174
END:VEVENT
END:VCALENDAR