BEGIN:VCALENDAR
VERSION:2.0
PRODID:Events Booking
BEGIN:VEVENT
UID:69e8edda3ee7c
SUMMARY:ILEAP Christmas Panto:<br>Dick Whittington<br>All Welcome
DESCRIPTION:
LOCATION:Newbold Terrace Leamington Spa CV32 4HN
DTSTART:20181230T104500Z
DTEND:20181230T140000Z
DTSTAMP:20260422T164842Z
ORGANIZER;CN=ILEAP Charity:MAILTO:sparkle@ileap.co.uk
GEO:52.2888;-1.531694
X-APPLE-STRUCTURED-LOCATION;VALUE=URI;X-ADDRESS=Newbold Terrace Leamington 
 Spa CV32 4HN;X-APPLE-RADIUS=72;X-TITLE=Royal Spa Centre:52.2888;-1.531694
END:VEVENT
END:VCALENDAR