BEGIN:VCALENDAR
VERSION:2.0
PRODID:Events Booking
BEGIN:VEVENT
UID:69e8ee1e29b6a
SUMMARY:ILEAP Christmas Panto: <br>The Snow Queen<br>All Welcome
DESCRIPTION:
LOCATION:Stratford Rd\, Warwick CV34 6LE\, UK
DTSTART:20181228T144500Z
DTEND:20181228T170000Z
DTSTAMP:20260422T164950Z
ORGANIZER;CN=ILEAP Charity:MAILTO:sparkle@ileap.co.uk
GEO:52.269365;-1.59916
X-APPLE-STRUCTURED-LOCATION;VALUE=URI;X-ADDRESS=Stratford Rd\, Warwick CV34
  6LE\, UK;X-APPLE-RADIUS=72;X-TITLE=The Playbox Theatre:52.269365;-1.59916
END:VEVENT
END:VCALENDAR