BEGIN:VCALENDAR
VERSION:2.0
PRODID:Events Booking
BEGIN:VEVENT
UID:69e9db191f08a
SUMMARY:ILEAP Christmas Panto: Goldilocks - Relaxed Performance 
DESCRIPTION:
 
 The Priory presents a relaxed performance of our Christma
 s 2025/26 pantomime!
 Designed to create a welcoming environment to our c
 ustomers with sensory needs&nbsp\;and other visible and hidden disabilitie
 s\, we're really excited to welcome you!
 Arrangements include:- No strob
 e lighting- No pyrotechnics- Volume turned down- House lights remain on th
 roughout the show- The audience are free to move around and make noise dur
 ing the show- An introduction to the show before we begin- Sensory tour pr
 ior to the show
 Step into the enchanting world of \"Goldilocks and the T
 hree Bears\"\, where fairy tale magic meets hilarious panto family fun! A 
 Priory Panto always promises a rollercoaster of laughter\, toe tapping tun
 es\, stunning dances and captivating performances that will leave audience
 s of all ages spellbound. Watch as the curious Goldilocks embarks on an ad
 venture with the adorable three bears. Perfect for a festive outing\, this
  show invites everyone to join in the fun\, cheer for the heroes\, and boo
  the villains. Don't miss out on this mesmerising extravaganza that guaran
 tees an incredible experience for the whole family!s this Christmas on an 
 unforgettable adventure to find out!
 Full of fun\, singing and all the a
 ction you’d expect from a Priory Panto – we promise to have you buzzin
 g from a fantastic\, festive night out.
 
 
LOCATION:Rosemary Hill\, Kenilworth CV8 1BN\, UK
DTSTART:20260102T140000Z
DTEND:20260102T163000Z
DTSTAMP:20210923T142801Z
ORGANIZER;CN=ILEAP Charity:MAILTO:sparkle@ileap.co.uk
GEO:52.347715;-1.578403
X-APPLE-STRUCTURED-LOCATION;VALUE=URI;X-ADDRESS=Rosemary Hill\, Kenilworth 
 CV8 1BN\, UK;X-APPLE-RADIUS=72;X-TITLE=Priory Theatre\, :52.347715;-1.5784
 03
END:VEVENT
END:VCALENDAR