BEGIN:VCALENDAR
VERSION:2.0
PRODID:Events Booking
BEGIN:VEVENT
UID:69e9db1a20571
SUMMARY:ILEAP Christmas Panto: Peter Pan
DESCRIPTION:THE SPECTACULAR FAMILY PANTOMIME PETER PAN AT THE ROYAL SPA CEN
 TRE&nbsp\;
 Starring JP MCCUE and SEAN DODDS
 When Wendy and her brother
 s encounter the mysterious Peter\, the boy who never grows old\, they are 
 whisked off to the magical island of Neverland. With the island under thre
 at can they help Peter and the Lost Boys to defeat the villainous Captain 
 Hook and his infamous pirate crew? Peter Pan will be packed full of all th
 e ingredients necessary to make The Royal Spa Centre’s panto an unmissab
 le festive treat – lots of hilarious slapstick comedy\, stunning scenery
  and costumes\, magical musical numbers and a plenty of audience interacti
 on. Get your tickets now for the panto that is guaranteed to have you hook
 ed!
LOCATION:Newbold Terrace Leamington Spa CV32 4HN
DTSTART:20251229T123000Z
DTEND:20251229T153000Z
DTSTAMP:20210923T142801Z
ORGANIZER;CN=ILEAP Charity:MAILTO:sparkle@ileap.co.uk
GEO:52.2888;-1.531694
X-APPLE-STRUCTURED-LOCATION;VALUE=URI;X-ADDRESS=Newbold Terrace Leamington 
 Spa CV32 4HN;X-APPLE-RADIUS=72;X-TITLE=Royal Spa Centre:52.2888;-1.531694
END:VEVENT
END:VCALENDAR