BEGIN:VCALENDAR
VERSION:2.0
PRODID:Events Booking
BEGIN:VEVENT
UID:69ec9d9ca6ad5
SUMMARY:ILEAP Club Night for 16 years and over
DESCRIPTION:
LOCATION:Southern Lane\, Stratford-upon-Avon\, CV37 6BH
DTSTART:20200226T200000Z
DTEND:20200226T220000Z
DTSTAMP:20260425T115524Z
ORGANIZER;CN=ILEAP Charity:MAILTO:sparkle@ileap.co.uk
GEO:52.189135;-1.70661
X-APPLE-STRUCTURED-LOCATION;VALUE=URI;X-ADDRESS=Southern Lane\, Stratford-u
 pon-Avon\, CV37 6BH;X-APPLE-RADIUS=72;X-TITLE=The Other Place:52.189135;-1
 .70661
END:VEVENT
END:VCALENDAR