BEGIN:VCALENDAR
VERSION:2.0
PRODID:Events Booking
BEGIN:VEVENT
UID:69e72f9b6c923
SUMMARY:ILEAP Crafty Workshop and Art Therapy\,<br>12+ yrs
DESCRIPTION:The Pavillion\, Stratford Community Sports Centre. Stratford Hi
 gh School
LOCATION:Alcester Rd\, Stratford-upon-Avon\, CV37 9DH\, UK
DTSTART:20180728T093000Z
DTEND:20180728T110000Z
DTSTAMP:20260421T090443Z
ORGANIZER;CN=ILEAP Charity:MAILTO:sparkle@ileap.co.uk
GEO:52.193676;-1.720444
X-APPLE-STRUCTURED-LOCATION;VALUE=URI;X-ADDRESS=Alcester Rd\, Stratford-upo
 n-Avon\, CV37 9DH\, UK;X-APPLE-RADIUS=72;X-TITLE=Stratford–on-Avon High 
 School:52.193676;-1.720444
END:VEVENT
END:VCALENDAR