BEGIN:VCALENDAR
VERSION:2.0
PRODID:Events Booking
BEGIN:VEVENT
UID:69e97f996b817
SUMMARY:ILEAP Crafty Workshop session<br>Summer Term<br>12 years and over
DESCRIPTION:This is a lovely chilled out session\, where we get Arty and en
 joy an Art Activity in a small group alongside friends old and new.
LOCATION:Shipston Rd\, Alderminster\, Stratford-upon-Avon CV37 8LU
DTSTART:20190727T093000Z
DTEND:20190727T110000Z
DTSTAMP:20260423T031033Z
ORGANIZER;CN=ILEAP Charity:MAILTO:sparkle@ileap.co.uk
GEO:52.180337;-1.700033
X-APPLE-STRUCTURED-LOCATION;VALUE=URI;X-ADDRESS=Shipston Rd\, Alderminster\
 , Stratford-upon-Avon CV37 8LU;X-APPLE-RADIUS=72;X-TITLE=The Rosebird Comm
 unity Hall:52.180337;-1.700033
END:VEVENT
END:VCALENDAR