BEGIN:VCALENDAR
VERSION:2.0
PRODID:Events Booking
BEGIN:VEVENT
UID:69e735200d1cd
SUMMARY:ILEAP Day Trip<br>to Mary Arden’s House\, 8+ yrs
DESCRIPTION:Falconry\, house tour\, Tudor dinner\, and goose herding.
 All
  aboard the ILEAP express for a good old-fashioned day out
DTSTART:20180722T091500Z
DTEND:20180722T151500Z
DTSTAMP:20260421T092816Z
ORGANIZER;CN=ILEAP Charity:MAILTO:sparkle@ileap.co.uk
END:VEVENT
END:VCALENDAR