BEGIN:VCALENDAR
VERSION:2.0
PRODID:Events Booking
BEGIN:VEVENT
UID:69e9824e7c7e5
SUMMARY:ILEAP Day Trip<br>to Think Tank\, 8+ yrs  
DESCRIPTION:All aboard the ILEAP Express for a good old-fashioned day out w
 ith Friends.
 A short walk from Birmingham Station takes us to the brilli
 ant Think Tank Museum
 Bring a picnic\, Dress for the Weather and bring 
 £ for gift shop.
 &nbsp\;
 Pick up and drop off at Stratford Parkway Tr
 ain Station
LOCATION:Millennium Point\, Curzon St\, Birmingham B4 7XG
DTSTART:20190811T091500Z
DTEND:20190811T151500Z
DTSTAMP:20260423T032206Z
ORGANIZER;CN=ILEAP Charity:MAILTO:sparkle@ileap.co.uk
GEO:52.482459;-1.886685
X-APPLE-STRUCTURED-LOCATION;VALUE=URI;X-ADDRESS=Millennium Point\, Curzon S
 t\, Birmingham B4 7XG;X-APPLE-RADIUS=72;X-TITLE=Think Tank:52.482459;-1.88
 6685
END:VEVENT
END:VCALENDAR