BEGIN:VCALENDAR
VERSION:2.0
PRODID:Events Booking
BEGIN:VEVENT
UID:69e9859cc087a
SUMMARY:ILEAP Day Trip to All Things Wild\, for 12 years and over
DESCRIPTION:
LOCATION:Station Road Honeybourne Near Evesham Worcestershire WR11 7QZ
DTSTART:20190805T100000Z
DTEND:20190805T143000Z
DTSTAMP:20260423T033612Z
ORGANIZER;CN=ILEAP Charity:MAILTO:sparkle@ileap.co.uk
GEO:52.097534;-1.833193
X-APPLE-STRUCTURED-LOCATION;VALUE=URI;X-ADDRESS=Station Road Honeybourne Ne
 ar Evesham Worcestershire WR11 7QZ;X-APPLE-RADIUS=72;X-TITLE=All Things Wi
 ld Nature Centre:52.097534;-1.833193
END:VEVENT
END:VCALENDAR