BEGIN:VCALENDAR
VERSION:2.0
PRODID:Events Booking
BEGIN:VEVENT
UID:69e981696cfc6
SUMMARY:ILEAP Day Trip to Mary Arden’s House\, 12 yrs and over 
DESCRIPTION:
LOCATION:Station Road\, Wilmcote\, Warwickshire\, CV37 9UN
DTSTART:20190729T091500Z
DTEND:20190729T151000Z
DTSTAMP:20260423T031817Z
ORGANIZER;CN=ILEAP Charity:MAILTO:sparkle@ileap.co.uk
GEO:52.221566;-1.760748
X-APPLE-STRUCTURED-LOCATION;VALUE=URI;X-ADDRESS=Station Road\, Wilmcote\, W
 arwickshire\, CV37 9UN;X-APPLE-RADIUS=72;X-TITLE=Mary Ardens Farm:52.22156
 6;-1.760748
END:VEVENT
END:VCALENDAR