BEGIN:VCALENDAR
VERSION:2.0
PRODID:Events Booking
BEGIN:VEVENT
UID:69e91184d08a4
SUMMARY:ILEAP Day Trip to Think Tank Birmingham on the Train\, 12 years and
  over
DESCRIPTION:
LOCATION:Millennium Point\, Curzon St\, Birmingham B4 7XG
DTSTART:20190303T101500Z
DTEND:20190303T171500Z
DTSTAMP:20260422T192052Z
ORGANIZER;CN=ILEAP Charity:MAILTO:sparkle@ileap.co.uk
GEO:52.482459;-1.886685
X-APPLE-STRUCTURED-LOCATION;VALUE=URI;X-ADDRESS=Millennium Point\, Curzon S
 t\, Birmingham B4 7XG;X-APPLE-RADIUS=72;X-TITLE=Think Tank:52.482459;-1.88
 6685
END:VEVENT
END:VCALENDAR