BEGIN:VCALENDAR
VERSION:2.0
PRODID:Events Booking
BEGIN:VEVENT
UID:69e73449bf213
SUMMARY:ILEAP Day Trip to Warwick Castle<br>8+ yrs
DESCRIPTION:The Wars of the Roses.&nbsp\;&nbsp\;An all new\, heart pumping\
 , fist thumping\, live action show!
LOCATION:Warwick\, CV34 4QU
DTSTART:20180729T093000Z
DTEND:20180729T153000Z
DTSTAMP:20260421T092441Z
ORGANIZER;CN=ILEAP Charity:MAILTO:sparkle@ileap.co.uk
GEO:52.279915;-1.585475
X-APPLE-STRUCTURED-LOCATION;VALUE=URI;X-ADDRESS=Warwick\, CV34 4QU;X-APPLE-
 RADIUS=72;X-TITLE=Warwick Castle:52.279915;-1.585475
END:VEVENT
END:VCALENDAR