BEGIN:VCALENDAR
VERSION:2.0
PRODID:Events Booking
BEGIN:VEVENT
UID:69e733d9e8ad9
SUMMARY:ILEAP to St Patricks Irish Club for a Disco<br>18+ yrs
DESCRIPTION:bring £3.50 entrance and £ for drinks
DTSTART:20180711T180000Z
DTEND:20180711T200000Z
DTSTAMP:20260421T092249Z
ORGANIZER;CN=ILEAP Charity:MAILTO:sparkle@ileap.co.uk
END:VEVENT
END:VCALENDAR