BEGIN:VCALENDAR
VERSION:2.0
PRODID:Events Booking
BEGIN:VEVENT
UID:69ec9d9cc36e9
SUMMARY:ILEAP Drama Workshop Tuesdays\, 8-14 years with Aspergers
DESCRIPTION:
LOCATION:Cottage Square\, Leamington Spa CV31 1PT\, UK
DTSTART:20200225T183000Z
DTEND:20200225T194500Z
DTSTAMP:20260425T115524Z
ORGANIZER;CN=ILEAP Charity:MAILTO:sparkle@ileap.co.uk
GEO:52.281336;-1.514425
X-APPLE-STRUCTURED-LOCATION;VALUE=URI;X-ADDRESS=Cottage Square\, Leamington
  Spa CV31 1PT\, UK;X-APPLE-RADIUS=72;X-TITLE=The Sydni Centre:52.281336;-1
 .514425
END:VEVENT
END:VCALENDAR