BEGIN:VCALENDAR
VERSION:2.0
PRODID:Events Booking
BEGIN:VEVENT
UID:69e999c576b5b
SUMMARY:ILEAP Drama Workshop Tuesdays\, 8-14 years with Aspergers
DESCRIPTION:
LOCATION:Cottage Square\, Leamington Spa CV31 1PT\, UK
DTSTART:20190910T173000Z
DTEND:20190910T184500Z
DTSTAMP:20260423T050213Z
ORGANIZER;CN=ILEAP Charity:MAILTO:sparkle@ileap.co.uk
GEO:52.281336;-1.514425
X-APPLE-STRUCTURED-LOCATION;VALUE=URI;X-ADDRESS=Cottage Square\, Leamington
  Spa CV31 1PT\, UK;X-APPLE-RADIUS=72;X-TITLE=The Sydni Centre:52.281336;-1
 .514425
END:VEVENT
END:VCALENDAR