BEGIN:VCALENDAR
VERSION:2.0
PRODID:Events Booking
BEGIN:VEVENT
UID:69e9456a3147a
SUMMARY:ILEAP Drama Workshop Tuesdays<br>Summer Term<br>8-14 years with Asp
 ergers
DESCRIPTION:
LOCATION:Cottage Square\, Leamington Spa CV31 1PT\, UK
DTSTART:20190521T173000Z
DTEND:20190521T184500Z
DTSTAMP:20260422T230218Z
ORGANIZER;CN=ILEAP Charity:MAILTO:sparkle@ileap.co.uk
GEO:52.281336;-1.514425
X-APPLE-STRUCTURED-LOCATION;VALUE=URI;X-ADDRESS=Cottage Square\, Leamington
  Spa CV31 1PT\, UK;X-APPLE-RADIUS=72;X-TITLE=The Sydni Centre:52.281336;-1
 .514425
END:VEVENT
END:VCALENDAR