BEGIN:VCALENDAR
VERSION:2.0
PRODID:Events Booking
BEGIN:VEVENT
UID:69ed4af8c4c98
SUMMARY:ILEAP Drawn Together
DESCRIPTION:
DTSTART:20200922T160000Z
DTEND:20200922T170000Z
DTSTAMP:20260426T001504Z
ORGANIZER;CN=ILEAP Charity:MAILTO:sparkle@ileap.co.uk
END:VEVENT
END:VCALENDAR