BEGIN:VCALENDAR
VERSION:2.0
PRODID:Events Booking
BEGIN:VEVENT
UID:69ed4cf0a3d0a
SUMMARY:ILEAP Drawn Together
DESCRIPTION:
DTSTART:20200915T160000Z
DTEND:20200915T170000Z
DTSTAMP:20260426T002328Z
ORGANIZER;CN=ILEAP Charity:MAILTO:sparkle@ileap.co.uk
END:VEVENT
END:VCALENDAR