BEGIN:VCALENDAR
VERSION:2.0
PRODID:Events Booking
BEGIN:VEVENT
UID:69e9d9668809a
SUMMARY:ILEAP Friday Afternoon Ten Pin Bowling: Autumn Term 2025: 16 years 
 and over  
DESCRIPTION:you are booking for the Autumn Term 2025&nbsp\;
 &nbsp\;Best D
 ay of the Week
 Enjoy 2 games of bowling and a meal!&nbsp\;
 Before the 
 session we will are dancing at the Kenilworth Centre before heading off in
  a taxi to Ten Pin bowling ( Book seperately)&nbsp\;
 We are expecting a 
 full house so you'll need to book early and your booking for the term.
 S
 ession runs every Friday throughout the year&nbsp\;
 Remember you can don
 ate and or fundraise for the ILEAP Charity at www.justgiving.com/ileap&nbs
 p\;
 &nbsp\;
 &nbsp\;
LOCATION:Royal Leamington Spa\, Warwick CV34 6RH\, UK
DTSTART:20251219T123000Z
DTEND:20251219T143000Z
DTSTAMP:20211028T085807Z
ORGANIZER;CN=ILEAP Charity:MAILTO:sparkle@ileap.co.uk
GEO:52.279158;-1.545272
X-APPLE-STRUCTURED-LOCATION;VALUE=URI;X-ADDRESS=Royal Leamington Spa\, Warw
 ick CV34 6RH\, UK;X-APPLE-RADIUS=72;X-TITLE=Ten Pin 10\, Megabowl:52.27915
 8;-1.545272
END:VEVENT
END:VCALENDAR