BEGIN:VCALENDAR
VERSION:2.0
PRODID:Events Booking
BEGIN:VEVENT
UID:69e9de865fe14
SUMMARY:ILEAP Friday Morning Dance: Autumn Term 2025: 16 years and over 
DESCRIPTION:you are booking for the Autumn Term 2025&nbsp\;
 End the week 
 in style with this funky Dance session with Nicola
 We start the day with
  a relaxed chat\, moving in gently to a relaxed dance session with Nicola 
 slowly building the tempo to all your favourite tunes!&nbsp\;
 After the 
 session we will head off in a taxi to Ten Pin bowling
 (Book Ten Pin sess
 ion seperately)&nbsp\;
 We are expecting a full house so you'll need to b
 ook early and your booking for the term.
 Session runs every Friday throu
 gh out the year
 Remember you can donate and or fundraise for the ILEAP C
 harity at www.justgiving.com/ileap&nbsp\;
 &nbsp\;
 &nbsp\;
LOCATION:Abbey End Car Park\, Abbey End\, Kenilworth CV8 1JP
DTSTART:20251219T100000Z
DTEND:20251219T120000Z
DTSTAMP:20211028T085807Z
ORGANIZER;CN=ILEAP Charity:MAILTO:sparkle@ileap.co.uk
GEO:52.344216;-1.578651
X-APPLE-STRUCTURED-LOCATION;VALUE=URI;X-ADDRESS=Abbey End Car Park\, Abbey 
 End\, Kenilworth CV8 1JP;X-APPLE-RADIUS=72;X-TITLE=The Kenilworth Centre:5
 2.344216;-1.578651
END:VEVENT
END:VCALENDAR